BEGIN:VCALENDAR
VERSION:2.0
PRODID:-//eventon.com NONSGML v1.0//EN
BEGIN:VEVENT
UID:69e891d0f0905
DTSTAMP:20260422T031600
DTSTART:20220908T220000Z
DTEND:20220909T010000Z
TZID:America/Chicago
LOCATION:Rock Springs Retreat Center 732 Rock Springs Road\,  Castalian Springs\,  TN 37031
SUMMARY:Family Fun Night on the Farm
DESCRIPTION: Join us on September 8\,  2022\,  from 5 PM - 8 PM CST\,  for Family Fun Night on the Farm at Rock Springs Retreat Center! Bring your family\,  friends\,  chairs/blankets\,  and your appetite! This month's featured food truck to be announced! 🏀 Free Throwing 🔵 Bocce Ball ⛳ Putting &[..]\nhttps://rockspringsrc.com/event-directory/family-fun-night-on-the-farm-4/
URL:https://rockspringsrc.com/event-directory/family-fun-night-on-the-farm-4/
END:VEVENT
END:VCALENDAR